BEGIN:VCALENDAR
VERSION:2.0
PRODID:-//bridgingbrains - ECPv6.15.15//NONSGML v1.0//EN
CALSCALE:GREGORIAN
METHOD:PUBLISH
X-WR-CALNAME:bridgingbrains
X-ORIGINAL-URL:https://bridgingbrains.co.uk
X-WR-CALDESC:Events for bridgingbrains
REFRESH-INTERVAL;VALUE=DURATION:PT1H
X-Robots-Tag:noindex
X-PUBLISHED-TTL:PT1H
BEGIN:VTIMEZONE
TZID:Europe/London
BEGIN:DAYLIGHT
TZOFFSETFROM:+0000
TZOFFSETTO:+0100
TZNAME:BST
DTSTART:20240331T010000
END:DAYLIGHT
BEGIN:STANDARD
TZOFFSETFROM:+0100
TZOFFSETTO:+0000
TZNAME:GMT
DTSTART:20241027T010000
END:STANDARD
BEGIN:DAYLIGHT
TZOFFSETFROM:+0000
TZOFFSETTO:+0100
TZNAME:BST
DTSTART:20250330T010000
END:DAYLIGHT
BEGIN:STANDARD
TZOFFSETFROM:+0100
TZOFFSETTO:+0000
TZNAME:GMT
DTSTART:20251026T010000
END:STANDARD
BEGIN:DAYLIGHT
TZOFFSETFROM:+0000
TZOFFSETTO:+0100
TZNAME:BST
DTSTART:20260329T010000
END:DAYLIGHT
BEGIN:STANDARD
TZOFFSETFROM:+0100
TZOFFSETTO:+0000
TZNAME:GMT
DTSTART:20261025T010000
END:STANDARD
END:VTIMEZONE
BEGIN:VEVENT
DTSTART;TZID=Europe/London:20250924T200000
DTEND;TZID=Europe/London:20250924T210000
DTSTAMP:20260421T181637
CREATED:20250908T195851Z
LAST-MODIFIED:20250914T143518Z
UID:2570-1758744000-1758747600@bridgingbrains.co.uk
SUMMARY:Special Yoga with Rajshri Sundar
DESCRIPTION:Please register here : https://docs.google.com/forms/d/19IzNNy8c9eSJswJ9P16hvheb4NKj7WXpKdYS-3Gk6qU/edit?chromeless=1
URL:https://bridgingbrains.co.uk/events/special-yoga-with-rajshri-sundar/
LOCATION:Online Event(Zoom)
CATEGORIES:Education & wellbeing Sessions
END:VEVENT
BEGIN:VEVENT
DTSTART;TZID=Europe/London:20250913T200000
DTEND;TZID=Europe/London:20250913T210000
DTSTAMP:20260421T181637
CREATED:20250908T213822Z
LAST-MODIFIED:20250908T214117Z
UID:2573-1757793600-1757797200@bridgingbrains.co.uk
SUMMARY:Forum Talk on engaging the child with activities
DESCRIPTION:Exchange of Knowledge
URL:https://bridgingbrains.co.uk/events/forum-talk-on-engaging-the-child-with-activities/
LOCATION:Online Event(Zoom)
END:VEVENT
END:VCALENDAR