BEGIN:VCALENDAR
VERSION:2.0
PRODID:-//bridgingbrains - ECPv6.15.15//NONSGML v1.0//EN
CALSCALE:GREGORIAN
METHOD:PUBLISH
X-ORIGINAL-URL:https://bridgingbrains.co.uk
X-WR-CALDESC:Events for bridgingbrains
REFRESH-INTERVAL;VALUE=DURATION:PT1H
X-Robots-Tag:noindex
X-PUBLISHED-TTL:PT1H
BEGIN:VTIMEZONE
TZID:Europe/London
BEGIN:DAYLIGHT
TZOFFSETFROM:+0000
TZOFFSETTO:+0100
TZNAME:BST
DTSTART:20240331T010000
END:DAYLIGHT
BEGIN:STANDARD
TZOFFSETFROM:+0100
TZOFFSETTO:+0000
TZNAME:GMT
DTSTART:20241027T010000
END:STANDARD
BEGIN:DAYLIGHT
TZOFFSETFROM:+0000
TZOFFSETTO:+0100
TZNAME:BST
DTSTART:20250330T010000
END:DAYLIGHT
BEGIN:STANDARD
TZOFFSETFROM:+0100
TZOFFSETTO:+0000
TZNAME:GMT
DTSTART:20251026T010000
END:STANDARD
BEGIN:DAYLIGHT
TZOFFSETFROM:+0000
TZOFFSETTO:+0100
TZNAME:BST
DTSTART:20260329T010000
END:DAYLIGHT
BEGIN:STANDARD
TZOFFSETFROM:+0100
TZOFFSETTO:+0000
TZNAME:GMT
DTSTART:20261025T010000
END:STANDARD
BEGIN:DAYLIGHT
TZOFFSETFROM:+0000
TZOFFSETTO:+0100
TZNAME:BST
DTSTART:20270328T010000
END:DAYLIGHT
BEGIN:STANDARD
TZOFFSETFROM:+0100
TZOFFSETTO:+0000
TZNAME:GMT
DTSTART:20271031T010000
END:STANDARD
END:VTIMEZONE
BEGIN:VEVENT
DTSTART;VALUE=DATE:20250101
DTEND;VALUE=DATE:20270101
DTSTAMP:20260421T161951
CREATED:20250908T195351Z
LAST-MODIFIED:20260225T195639Z
UID:2568-1735689600-1798761599@bridgingbrains.co.uk
SUMMARY:Meditation with Dr.Rajesh
DESCRIPTION:Meditation\, Wellbeing and wisdom sharing
URL:https://bridgingbrains.co.uk/events/meditation-with-dr-rajesh/
LOCATION:Online Event(Zoom)
END:VEVENT
BEGIN:VEVENT
DTSTART;VALUE=DATE:20250101
DTEND;VALUE=DATE:20270101
DTSTAMP:20260421T161951
CREATED:20250919T124916Z
LAST-MODIFIED:20260225T043934Z
UID:2599-1735689600-1798761599@bridgingbrains.co.uk
SUMMARY:Weekly Online Painting & Arts Classes By Akanksha
DESCRIPTION:This is a weekly ongoing online session delivered via Zoom. \nThe programme runs regularly throughout the year. \nPlease contact us for current dates\, availability\, and registration details. \nThe joining link will be shared after registration is confirmed.
URL:https://bridgingbrains.co.uk/events/painting-arts-classes-by-akanksha/
LOCATION:Online Event(Zoom)
END:VEVENT
END:VCALENDAR